2.438400
0.000000
0.000000
-2.438400
692109.563546
3321295.193143
