2.43840000
0.00000000
0.00000000
-2.43840000
774454.96711056
3406344.41548821
