2.43840000
0.00000000
0.00000000
-2.43840000
249210.76421427
3474738.12193991
