2.438400000000
0.000000000000
0.000000000000
-2.438400000000
287658.258851563030
3612543.887686952500
